BEGIN:VCALENDAR
VERSION:2.0
PRODID:-//PYVOBJECT//NONSGML Version 0.9.9//EN
X-WR-CALNAME;VALUE=TEXT:FileWave Event Calendar
BEGIN:VTIMEZONE
TZID:America/New_York
BEGIN:STANDARD
DTSTART:20001029T080000
RRULE:FREQ=YEARLY;BYDAY=-1SU;BYMONTH=10;UNTIL=20061029T120000Z
TZNAME:America/New_York(STD)
TZOFFSETFROM:-0400
TZOFFSETTO:-0500
END:STANDARD
BEGIN:STANDARD
DTSTART:20071104T080000
RRULE:FREQ=YEARLY;BYDAY=1SU;BYMONTH=11
TZNAME:America/New_York(STD)
TZOFFSETFROM:-0400
TZOFFSETTO:-0500
END:STANDARD
BEGIN:DAYLIGHT
DTSTART:20000402T020000
RRULE:FREQ=YEARLY;BYDAY=1SU;BYMONTH=4;UNTIL=20060402T070000Z
TZNAME:America/New_York(DST)
TZOFFSETFROM:-0500
TZOFFSETTO:-0400
END:DAYLIGHT
BEGIN:DAYLIGHT
DTSTART:20070311T020000
RRULE:FREQ=YEARLY;BYDAY=2SU;BYMONTH=3
TZNAME:America/New_York(DST)
TZOFFSETFROM:-0500
TZOFFSETTO:-0400
END:DAYLIGHT
END:VTIMEZONE
BEGIN:VTIMEZONE
TZID:Europe/Berlin
BEGIN:STANDARD
DTSTART:20001029T090000
RRULE:FREQ=YEARLY;BYDAY=-1SU;BYMONTH=10
TZNAME:(STD)
TZOFFSETFROM:+0200
TZOFFSETTO:+0100
END:STANDARD
BEGIN:DAYLIGHT
DTSTART:20000326T020000
RRULE:FREQ=YEARLY;BYDAY=-1SU;BYMONTH=3
TZNAME:(DST)
TZOFFSETFROM:+0100
TZOFFSETTO:+0200
END:DAYLIGHT
END:VTIMEZONE
BEGIN:VEVENT
UID:797803b3-864a-4952-9e4b-3e992ef07dec
DTSTART;TZID=America/New_York:20260429T103000
DTEND;TZID=America/New_York:20260429T113000
CREATED:20260417T155524Z
DESCRIPTION;ALTREP="data:text/html,Details%20in%20the%20email%20that%20was%
 20sent%20out%20for%20the%202026%20Roadmap%20for%20FileWave.":Details in th
 e email that was sent out for the 2026 Roadmap for FileWave.
DTSTAMP:20260417T155626Z
LAST-MODIFIED:20260417T155626Z
SUMMARY:Global Client Call
TRANSP:OPAQUE
END:VEVENT
BEGIN:VEVENT
UID:3e97c732-7eb1-41cd-9aa1-878fff7cc157
DTSTART;TZID=Europe/Berlin:20260112T150000
DTEND;TZID=Europe/Berlin:20260112T154500
CATEGORIES:Discord
CREATED:20260102T200512Z
DESCRIPTION;ALTREP="data:text/html,Jeden%20zweiten%20Montag%20eines%20Monat
 s%20Treffen%20von%20FileWave%20Admins%20aus%20dem%20%0Adeutschsprachigen%2
 0Raum%20um%2015%3A00%20Uhr.%20Austausch%20zu%20FileWave%20allgemein%2C%20%
 0AFragen%20und%20Ideen.%20Einfach%20auf%20unseren%20Discord%20Server%20den
 %20deutschen%20Open%20%0AChat%20(German)%20betreten.":Jeden zweiten Montag
  eines Monats Treffen von FileWave Admins aus dem \ndeutschsprachigen Raum
  um 15:00 Uhr. Austausch zu FileWave allgemein\, \nFragen und Ideen. Einfa
 ch auf unseren Discord Server den deutschen Open \nChat (German) betreten.
DTSTAMP:20260112T163926Z
LAST-MODIFIED:20260112T163926Z
RRULE:FREQ=MONTHLY;BYDAY=2MO
SEQUENCE:1
SUMMARY:FileWave Admin Treffen
TRANSP:OPAQUE
X-MOZ-GENERATION:1
END:VEVENT
BEGIN:VEVENT
UID:c4b5bcad-1590-426e-84f6-9b1854603213
DTSTART;TZID=America/New_York:20260114T100000
DTEND;TZID=America/New_York:20260114T104500
CATEGORIES:Discord
CREATED:20260102T201002Z
DESCRIPTION;ALTREP="data:text/html,Join%20FileWave%E2%80%99s%20Product%20Ow
 ners%20and%20Product%20Management%20team%20on%20the%20second%0A%20Wednesda
 y%20of%20each%20month%20at%2010%20AM%20Eastern%20US%20time%20for%20an%20op
 en%20lounge%20%0Asession.%20This%20is%20your%20opportunity%20to%20provide%
 20direct%20feedback%2C%20discuss%20%0Ayour%20needs%2C%20and%20explore%20fu
 ture%20ideas.%20Your%20insights%20help%20shape%20%0AFileWave%E2%80%99s%20p
 roducts%2C%20and%20we%20value%20every%20voice.%20Whether%20you%20have%20a%
 20%0Asuggestion%20or%20simply%20want%20to%20engage%20with%20the%20team%2C%
 20we%E2%80%99re%20here%20to%20listen!%3Cbr%3E%3Cbr%3EThis%0A%20session%20i
 s%20open%20to%20anyone%2C%20so%20feel%20free%20to%20invite%20your%20collea
 gues%20or%20%0Afriends.%20To%20join%20the%20chat%2C%20please%20join%20Disc
 ord%20and%20RSVP%20on%20the%20%23events%20%0Achannel%2C%20and%20join%20us%
 20in%20the%20%E2%80%9CCenter%20Stage%E2%80%9D%20channel.%20We%20hope%20to%
 20see%20you%20%0Athere!%20Please%20note%20that%20this%20event%20will%20tak
 e%20place%20in%20Discord%20and%20there%20%0Ais%20helpful%20information%20a
 bout%20getting%20started%20here%3A%20%3Ca%20class%3D%22moz-txt-link-freete
 xt%22%20href%3D%22https%3A%2F%2Fgo.filewave.com%2Fdiscord%22%3Ehttps%3A%2F
 %2Fgo.filewave.com%2Fdiscord%3C%2Fa%3E%C2%A0%3Cbr%3E%3Cbr%3E":Join FileWav
 e’s Product Owners and Product Management team on the second\n Wednesday
  of each month at 10 AM Eastern US time for an open lounge \nsession. This
  is your opportunity to provide direct feedback\, discuss \nyour needs\, a
 nd explore future ideas. Your insights help shape \nFileWave’s products\
 , and we value every voice. Whether you have a \nsuggestion or simply want
  to engage with the team\, we’re here to listen!\n\nThis\n session is op
 en to anyone\, so feel free to invite your colleagues or \nfriends. To joi
 n the chat\, please join Discord and RSVP on the #events \nchannel\, and j
 oin us in the “Center Stage” channel. We hope to see you \nthere! Plea
 se note that this event will take place in Discord and there \nis helpful 
 information about getting started here: https://go.filewave.com/discord \n
 \n
DTSTAMP:20260202T140254Z
EXDATE;TZID=America/New_York:20260211T100000
LAST-MODIFIED:20260202T140254Z
RRULE:FREQ=MONTHLY;BYDAY=2WE;WKST=SU
SEQUENCE:2
SUMMARY:FileWave Product Owner Lounge
TRANSP:OPAQUE
X-MOZ-GENERATION:3
END:VEVENT
BEGIN:VEVENT
UID:aae838ee-4a63-4ff1-85f2-06c7a7afca83
DTSTART;VALUE=DATE:19940310
DTEND;VALUE=DATE:19940311
CREATED:20260106T162800Z
DESCRIPTION;ALTREP="data:text/html,%3Cp%20style%3D%22margin-bottom%3A%201re
 m%3B%20margin-top%3A%200px%3B%20color%3A%20rgb(42%2C%2060%2C%2066)%3B%20fo
 nt-family%3A%20-apple-system%2C%20%26quot%3Bsystem-ui%26quot%3B%2C%20%26qu
 ot%3BSegoe%20UI%26quot%3B%2C%20Roboto%2C%20%26quot%3BHelvetica%20Neue%26qu
 ot%3B%2C%20Arial%2C%20%26quot%3BApple%20Color%20Emoji%26quot%3B%2C%20%26qu
 ot%3BSegoe%20UI%20Emoji%26quot%3B%2C%20%26quot%3BSegoe%20UI%20Symbol%26quo
 t%3B%2C%20sans-serif%3B%20font-size%3A%2014px%3B%20font-style%3A%20normal%
 3B%20font-variant-ligatures%3A%20normal%3B%20font-variant-caps%3A%20normal
 %3B%20font-weight%3A%20400%3B%20letter-spacing%3A%20normal%3B%20orphans%3A
 %202%3B%20text-align%3A%20start%3B%20text-indent%3A%200px%3B%20text-transf
 orm%3A%20none%3B%20widows%3A%202%3B%20word-spacing%3A%200px%3B%20-webkit-t
 ext-stroke-width%3A%200px%3B%20white-space%3A%20normal%3B%20background-col
 or%3A%20rgb(255%2C%20255%2C%20255)%3B%20text-decoration-thickness%3A%20ini
 tial%3B%20text-decoration-style%3A%20initial%3B%20text-decoration-color%3A
 %20initial%3B%22%3EFileWave%20was%20founded%20in%201992%20and%20the%20trad
 emark%20was%20registered%20on%20this%20day%20in%201994%2C%20which%20means%
 20it%20showed%20up%20in%20the%20Windows%203.1%20%2F%20System%207%20era%2C%
 20when%20Linux%20was%20barely%20getting%20started%20and%20managing%20even%
 20a%20small%20group%20of%20machines%20could%20become%20annoying%20fast.%3C
 %2Fp%3E%3Cp%20style%3D%22margin-bottom%3A%201rem%3B%20color%3A%20rgb(42%2C
 %2060%2C%2066)%3B%20font-family%3A%20-apple-system%2C%20%26quot%3Bsystem-u
 i%26quot%3B%2C%20%26quot%3BSegoe%20UI%26quot%3B%2C%20Roboto%2C%20%26quot%3
 BHelvetica%20Neue%26quot%3B%2C%20Arial%2C%20%26quot%3BApple%20Color%20Emoj
 i%26quot%3B%2C%20%26quot%3BSegoe%20UI%20Emoji%26quot%3B%2C%20%26quot%3BSeg
 oe%20UI%20Symbol%26quot%3B%2C%20sans-serif%3B%20font-size%3A%2014px%3B%20f
 ont-style%3A%20normal%3B%20font-variant-ligatures%3A%20normal%3B%20font-va
 riant-caps%3A%20normal%3B%20font-weight%3A%20400%3B%20letter-spacing%3A%20
 normal%3B%20orphans%3A%202%3B%20text-align%3A%20start%3B%20text-indent%3A%
 200px%3B%20text-transform%3A%20none%3B%20widows%3A%202%3B%20word-spacing%3
 A%200px%3B%20-webkit-text-stroke-width%3A%200px%3B%20white-space%3A%20norm
 al%3B%20background-color%3A%20rgb(255%2C%20255%2C%20255)%3B%20text-decorat
 ion-thickness%3A%20initial%3B%20text-decoration-style%3A%20initial%3B%20te
 xt-decoration-color%3A%20initial%3B%22%3EWhat%E2%80%99s%20funny%20is%20tha
 t%20the%20core%20idea%20still%20feels%20current%3A%20devices%20should%20ma
 nage%20themselves%20by%20reconciling%20to%20a%20desired%20state.%3C%2Fp%3E
 %3Cp%20style%3D%22margin-bottom%3A%201rem%3B%20color%3A%20rgb(42%2C%2060%2
 C%2066)%3B%20font-family%3A%20-apple-system%2C%20%26quot%3Bsystem-ui%26quo
 t%3B%2C%20%26quot%3BSegoe%20UI%26quot%3B%2C%20Roboto%2C%20%26quot%3BHelvet
 ica%20Neue%26quot%3B%2C%20Arial%2C%20%26quot%3BApple%20Color%20Emoji%26quo
 t%3B%2C%20%26quot%3BSegoe%20UI%20Emoji%26quot%3B%2C%20%26quot%3BSegoe%20UI
 %20Symbol%26quot%3B%2C%20sans-serif%3B%20font-size%3A%2014px%3B%20font-sty
 le%3A%20normal%3B%20font-variant-ligatures%3A%20normal%3B%20font-variant-c
 aps%3A%20normal%3B%20font-weight%3A%20400%3B%20letter-spacing%3A%20normal%
 3B%20orphans%3A%202%3B%20text-align%3A%20start%3B%20text-indent%3A%200px%3
 B%20text-transform%3A%20none%3B%20widows%3A%202%3B%20word-spacing%3A%200px
 %3B%20-webkit-text-stroke-width%3A%200px%3B%20white-space%3A%20normal%3B%2
 0background-color%3A%20rgb(255%2C%20255%2C%20255)%3B%20text-decoration-thi
 ckness%3A%20initial%3B%20text-decoration-style%3A%20initial%3B%20text-deco
 ration-color%3A%20initial%3B%22%3EA%20few%20milestones%20from%20the%20jour
 ney%3A%3C%2Fp%3E%3Cul%20style%3D%22margin-bottom%3A%201rem%3B%20padding-in
 line-start%3A%202rem%3B%20color%3A%20rgb(42%2C%2060%2C%2066)%3B%20font-fam
 ily%3A%20-apple-system%2C%20%26quot%3Bsystem-ui%26quot%3B%2C%20%26quot%3BS
 egoe%20UI%26quot%3B%2C%20Roboto%2C%20%26quot%3BHelvetica%20Neue%26quot%3B%
 2C%20Arial%2C%20%26quot%3BApple%20Color%20Emoji%26quot%3B%2C%20%26quot%3BS
 egoe%20UI%20Emoji%26quot%3B%2C%20%26quot%3BSegoe%20UI%20Symbol%26quot%3B%2
 C%20sans-serif%3B%20font-size%3A%2014px%3B%20font-style%3A%20normal%3B%20f
 ont-variant-ligatures%3A%20normal%3B%20font-variant-caps%3A%20normal%3B%20
 font-weight%3A%20400%3B%20letter-spacing%3A%20normal%3B%20orphans%3A%202%3
 B%20text-align%3A%20start%3B%20text-indent%3A%200px%3B%20text-transform%3A
 %20none%3B%20widows%3A%202%3B%20word-spacing%3A%200px%3B%20-webkit-text-st
 roke-width%3A%200px%3B%20white-space%3A%20normal%3B%20background-color%3A%
 20rgb(255%2C%20255%2C%20255)%3B%20text-decoration-thickness%3A%20initial%3
 B%20text-decoration-style%3A%20initial%3B%20text-decoration-color%3A%20ini
 tial%3B%22%3E%3Cli%20style%3D%22margin-top%3A%200.25rem%3B%22%3E%3Cp%20sty
 le%3D%22margin%3A%200px%3B%22%3E1992%3A%20FileWave%20AG%20founded%20in%20S
 witzerland%3C%2Fp%3E%3C%2Fli%3E%3Cli%20style%3D%22margin-top%3A%200.25rem%
 3B%22%3E%3Cp%20style%3D%22margin%3A%200px%3B%22%3E2000%3A%20FileWave%20USA
 %20established%3C%2Fp%3E%3C%2Fli%3E%3Cli%20style%3D%22margin-top%3A%200.25
 rem%3B%22%3E%3Cp%20style%3D%22margin%3A%200px%3B%22%3E2003%3A%20Windows%20
 support%3C%2Fp%3E%3C%2Fli%3E%3Cli%20style%3D%22margin-top%3A%200.25rem%3B%
 22%3E%3Cp%20style%3D%22margin%3A%200px%3B%22%3E2010%3A%20iOS%20support%3C%
 2Fp%3E%3C%2Fli%3E%3Cli%20style%3D%22margin-top%3A%200.25rem%3B%22%3E%3Cp%2
 0style%3D%22margin%3A%200px%3B%22%3E2014%3A%20Android%20support%3C%2Fp%3E%
 3C%2Fli%3E%3Cli%20style%3D%22margin-top%3A%200.25rem%3B%20margin-bottom%3A
 %200px%3B%22%3E%3Cp%20style%3D%22margin%3A%200px%3B%22%3E2017%3A%20ChromeO
 S%20support%3C%2Fp%3E%3C%2Fli%3E%3C%2Ful%3E%3Cp%20style%3D%22margin-bottom
 %3A%201rem%3B%20color%3A%20rgb(42%2C%2060%2C%2066)%3B%20font-family%3A%20-
 apple-system%2C%20%26quot%3Bsystem-ui%26quot%3B%2C%20%26quot%3BSegoe%20UI%
 26quot%3B%2C%20Roboto%2C%20%26quot%3BHelvetica%20Neue%26quot%3B%2C%20Arial
 %2C%20%26quot%3BApple%20Color%20Emoji%26quot%3B%2C%20%26quot%3BSegoe%20UI%
 20Emoji%26quot%3B%2C%20%26quot%3BSegoe%20UI%20Symbol%26quot%3B%2C%20sans-s
 erif%3B%20font-size%3A%2014px%3B%20font-style%3A%20normal%3B%20font-varian
 t-ligatures%3A%20normal%3B%20font-variant-caps%3A%20normal%3B%20font-weigh
 t%3A%20400%3B%20letter-spacing%3A%20normal%3B%20orphans%3A%202%3B%20text-a
 lign%3A%20start%3B%20text-indent%3A%200px%3B%20text-transform%3A%20none%3B
 %20widows%3A%202%3B%20word-spacing%3A%200px%3B%20-webkit-text-stroke-width
 %3A%200px%3B%20white-space%3A%20normal%3B%20background-color%3A%20rgb(255%
 2C%20255%2C%20255)%3B%20text-decoration-thickness%3A%20initial%3B%20text-d
 ecoration-style%3A%20initial%3B%20text-decoration-color%3A%20initial%3B%22
 %3ENow%20that%20same%20general%20idea%20gets%20used%20to%20manage%20fleets
 %20at%20a%20scale%20that%20would%20have%20sounded%20absurd%20in%20the%20ea
 rly%2090s.%3C%2Fp%3E":FileWave was founded in 1992 and the trademark was r
 egistered on this day in 1994\, which means it showed up in the Windows 3.
 1 / System 7 era\, when Linux was barely getting started and managing even
  a small group of machines could become annoying fast.\n\nWhat’s funny i
 s that the core idea still feels current: devices should manage themselves
  by reconciling to a desired state.\n\nA few milestones from the journey:\
 n\n    1992: FileWave AG founded in Switzerland\n\n    2000: FileWave USA 
 established\n\n    2003: Windows support\n\n    2010: iOS support\n\n    2
 014: Android support\n\n    2017: ChromeOS support\n\nNow that same genera
 l idea gets used to manage fleets at a scale that would have sounded absur
 d in the early 90s.
DTSTAMP:20260310T143735Z
LAST-MODIFIED:20260310T143735Z
RRULE:FREQ=YEARLY
SUMMARY:FileWave's Birthday 🎂
TRANSP:TRANSPARENT
X-MOZ-GENERATION:2
END:VEVENT
BEGIN:VEVENT
UID:bd78f569-a398-47ef-8e2c-c3af1e7367df
DTSTART;TZID=America/New_York:20260122T210000
DTEND;TZID=America/New_York:20260122T214500
CATEGORIES:Discord
CREATED:20260102T201529Z
DESCRIPTION;ALTREP="data:text/html,This%20is%20an%20ongoing%20series%20wher
 e%20you%20can%20ask%20any%20questions%20you%20have%20in%20an%0A%20open%20f
 orum.%20Our%20team%20will%20be%20on%20hand%20to%20provide%20guidance%20and
 %20support.%20%0AThis%20session%20is%20open%20to%20anyone%2C%20so%20feel%2
 0free%20to%20invite%20your%20colleagues%20%0Aor%20friends.%20To%20join%20t
 he%20chat%2C%20please%20join%20Discord%20and%20RSVP%20on%20the%20%0A%23eve
 nts%20channel%2C%20and%20join%20us%20in%20the%20%E2%80%9CCenter%20Stage%E2
 %80%9D%20channel.%20We%20hope%20to%20%0Asee%20you%20there!%20Please%20note
 %20that%20this%20event%20will%20take%20place%20in%20Discord%20%0Aand%20the
 re%20is%20helpful%20information%20about%20getting%20started%20here%3A%20%3
 Ca%20class%3D%22moz-txt-link-freetext%22%20href%3D%22https%3A%2F%2Fgo.file
 wave.com%2Fdiscord%22%3Ehttps%3A%2F%2Fgo.filewave.com%2Fdiscord%3C%2Fa%3E"
 :This is an ongoing series where you can ask any questions you have in an\
 n open forum. Our team will be on hand to provide guidance and support. \n
 This session is open to anyone\, so feel free to invite your colleagues \n
 or friends. To join the chat\, please join Discord and RSVP on the \n#even
 ts channel\, and join us in the “Center Stage” channel. We hope to \ns
 ee you there! Please note that this event will take place in Discord \nand
  there is helpful information about getting started here: https://go.filew
 ave.com/discord
DTSTAMP:20260122T154158Z
EXDATE;TZID=America/New_York:20260122T210000
LAST-MODIFIED:20260122T154158Z
RRULE:FREQ=MONTHLY;BYDAY=4TH
SEQUENCE:2
SUMMARY:Training Department Open Office Hours (APJ)
TRANSP:OPAQUE
X-MOZ-GENERATION:4
END:VEVENT
BEGIN:VEVENT
UID:8ade262b-fecb-4aad-bda1-5e81def61458
DTSTART;TZID=America/New_York:20260428T100000
DTEND;TZID=America/New_York:20260428T110000
CATEGORIES:YouTube
CREATED:20260417T152146Z
DESCRIPTION;ALTREP="data:text/html,%3Cp%3E%3Cspan%3EOn%20April%2028%2C%20jo
 in%20us%20for%20our%20next%20FileWave%20Alliance%20eMeeting%2C%20streamed%
 20live%20on%20YouTube%2C%20where%20we%E2%80%99ll%20preview%20what%E2%80%99
 s%20new%20in%20%3Ca%20href%3D%22https%3A%2F%2Fkb.filewave.com%2Flink%2F110
 2%22%20rel%3D%22noopener%22%3EFileWave%2016.3%3C%2Fa%3E.%20If%20you%20can%
 E2%80%99t%20join%20us%20live%2C%20the%20recording%20will%20be%20available%
 20afterward%20so%20you%20can%20review%20it%20before%20upgrading.%20During%
 20the%20livestream%2C%20we%E2%80%99ll%20share%20a%20live%20demonstration%2
 0and%20overview%20of%20new%20features%20in%20version%2016.3%2C%20including
 %3A%3C%2Fspan%3E%3C%2Fp%3E%0A%3Cul%3E%3Cli%3E%0A%3Cp%3E%3Cspan%3EDebian%20
 13%3C%2Fspan%3E%3C%2Fp%3E%0A%3C%2Fli%3E%3Cli%3E%0A%3Cp%3E%3Cspan%3EKiosk%2
 0for%20iOS%2FiPadOS%20moving%20to%20VPP%3C%2Fspan%3E%3C%2Fp%3E%0A%3C%2Fli%
 3E%3Cli%3E%0A%3Cp%3E%3Cspan%3EmacOS%20code%20signing%20identity%20change%3
 C%2Fspan%3E%3C%2Fp%3E%0A%3C%2Fli%3E%3Cli%3E%0A%3Cp%3E%3Cspan%3EVPP%20impro
 vements%3C%2Fspan%3E%3C%2Fp%3E%0A%3C%2Fli%3E%3Cli%3E%0A%3Cp%3E%3Cspan%3EAu
 tomatic%20Booster%20upgrades%3C%2Fspan%3E%3C%2Fp%3E%0A%3C%2Fli%3E%3Cli%3E%
 0A%3Cp%3E%3Cspan%3EAutoPkg%20improvements%3C%2Fspan%3E%3C%2Fp%3E%0A%3C%2Fl
 i%3E%3Cli%3E%0A%3Cp%3E%3Cspan%3EGoogle%20API%20improvements%3C%2Fspan%3E%3
 C%2Fp%3E%0A%3C%2Fli%3E%3Cli%3E%0A%3Cp%3E%3Cspan%3EWindows%20Software%20Upd
 ate%20Status%20enhancement%3C%2Fspan%3E%3C%2Fp%3E%0A%3C%2Fli%3E%3Cli%3E%0A
 %3Cp%3E%3Cspan%3EBrute%20Force%20Lockout%20and%20other%20security%20change
 s%3C%2Fspan%3E%3C%2Fp%3E%0A%3C%2Fli%3E%3C%2Ful%3E%0A%3Cp%3E%3Cspan%3EWe%E2
 %80%99ll%20also%20highlight%20updates%20from%20our%20%3Ca%20href%3D%22http
 s%3A%2F%2Fgo.filewave.com%2Fproduct-board%22%20rel%3D%22noopener%22%3EProd
 uct%20Feedback%3C%2Fa%3E%20and%20%3Ca%20href%3D%22https%3A%2F%2Fgo.filewav
 e.com%2Froadmap%22%20rel%3D%22noopener%22%3ERoadmap%3C%2Fa%3E%20boards%2C%
 20including%20how%20customer%20input%20is%20helping%20shape%20future%20enh
 ancements.%20You%20can%20%3Ca%20href%3D%22https%3A%2F%2Fwww.youtube.com%2F
 live%2FaOD01_ON6DE%22%20rel%3D%22noopener%22%3Ejoin%20the%20livestream%20l
 ive%3C%2Fa%3E%2C%20%3Ca%20href%3D%22https%3A%2F%2Fyoutube.com%2Ffilewave%3
 Fsub_confirmation%3D1%22%20rel%3D%22noopener%22%3Esubscribe%20to%20our%20Y
 ouTube%20channel%3C%2Fa%3E%2C%20and%20explore%20%3Ca%20href%3D%22https%3A%
 2F%2Fwww.filewave.com%2Fcustomer-events%2F%22%20rel%3D%22noopener%22%3Eupc
 oming%20customer%20events%3C%2Fa%3E.%3C%2Fspan%3E%3C%2Fp%3E":On April 28\,
  join us for our next FileWave Alliance eMeeting\, streamed live on YouTub
 e\, where we’ll preview what’s new in FileWave 16.3. If you can’t jo
 in us live\, the recording will be available afterward so you can review i
 t before upgrading. During the livestream\, we’ll share a live demonstra
 tion and overview of new features in version 16.3\, including:\n\n\n    De
 bian 13\n\n\n    Kiosk for iOS/iPadOS moving to VPP\n\n\n    macOS code si
 gning identity change\n\n\n    VPP improvements\n\n\n    Automatic Booster
  upgrades\n\n\n    AutoPkg improvements\n\n\n    Google API improvements\n
 \n\n    Windows Software Update Status enhancement\n\n\n    Brute Force Lo
 ckout and other security changes\n\n\nWe’ll also highlight updates from 
 our Product Feedback and Roadmap boards\, including how customer input is 
 helping shape future enhancements. You can join the livestream live\, subs
 cribe to our YouTube channel\, and explore upcoming customer events.
DTSTAMP:20260417T155435Z
LAST-MODIFIED:20260417T155435Z
SUMMARY:Alliance eMeeting Q1/2026
TRANSP:OPAQUE
X-MOZ-GENERATION:3
END:VEVENT
BEGIN:VEVENT
UID:0c9627cf-0cdf-4f13-b09c-ba95075b5f76
DTSTART;TZID=America/New_York:20260109T100000
DTEND;TZID=America/New_York:20260109T104500
CATEGORIES:Discord
CREATED:20260102T195900Z
DESCRIPTION;ALTREP="data:text/html,This%20interactive%20session%20covers%20
 the%20core%20concepts%2C%20workflows%2C%20and%20best%20practices%20needed%
 20to%20successfully%20manage%20devices%20with%20FileWave.%20Topics%20may%2
 0include%20client%20enrollment%2C%20inventory%2C%20policies%2C%20profiles%
 2C%20software%20deployment%2C%20and%20general%20platform%20navigation.%20T
 he%20content%20adapts%20to%20the%20audience%2C%20making%20it%20equally%20u
 seful%20for%20first-time%20admins%20and%20those%20looking%20to%20reinforce
 %20fundamentals.%3Cbr%3E%3Cbr%3EThe%20session%20is%20run%20as%20an%20open%
 20forum%E2%80%94participants%20are%20encouraged%20to%20ask%20questions%20a
 t%20any%20time.%20Whether%20you%E2%80%99re%20just%20getting%20started%2C%2
 0transitioning%20from%20another%20MDM%2C%20or%20looking%20to%20better%20un
 derstand%20FileWave%E2%80%99s%20day-to-day%20operations%2C%20this%20is%20a
 %20safe%2C%20practical%20environment%20to%20learn%20and%20engage%20directl
 y%20with%20FileWave%20experts.%20No%20preparation%20required.%20Bring%20yo
 ur%20questions.%20Join%20Discord%3A%C2%A0%3Ca%20href%3D%22https%3A%2F%2Fgo
 .filewave.com%2Fdiscord%22%3Ehttps%3A%2F%2Fgo.filewave.com%2Fdiscord%3C%2F
 a%3E%3Cbr%3E%3Cbr%3E":This interactive session covers the core concepts\, 
 workflows\, and best practices needed to successfully manage devices with 
 FileWave. Topics may include client enrollment\, inventory\, policies\, pr
 ofiles\, software deployment\, and general platform navigation. The conten
 t adapts to the audience\, making it equally useful for first-time admins 
 and those looking to reinforce fundamentals.\n\nThe session is run as an o
 pen forum—participants are encouraged to ask questions at any time. Whet
 her you’re just getting started\, transitioning from another MDM\, or lo
 oking to better understand FileWave’s day-to-day operations\, this is a 
 safe\, practical environment to learn and engage directly with FileWave ex
 perts. No preparation required. Bring your questions. Join Discord: https:
 //go.filewave.com/discord\n\n
DTSTAMP:20260112T185135Z
LAST-MODIFIED:20260112T185135Z
RRULE:FREQ=WEEKLY;INTERVAL=2
SUMMARY:FileWave Basics
TRANSP:OPAQUE
X-MOZ-GENERATION:4
END:VEVENT
BEGIN:VEVENT
UID:8a4ff0ae-eaf7-41e5-8068-29beb5f9f715
DTSTART;TZID=America/New_York:20260115T100000
DTEND;TZID=America/New_York:20260115T104500
CATEGORIES:Discord
CREATED:20260102T201421Z
DESCRIPTION;ALTREP="data:text/html,This%20is%20an%20ongoing%20series%20wher
 e%20you%20can%20ask%20any%20questions%20you%20have%20in%20an%0A%20open%20f
 orum.%20Our%20team%20will%20be%20on%20hand%20to%20provide%20guidance%20and
 %20support.%20%0AThis%20session%20is%20open%20to%20anyone%2C%20so%20feel%2
 0free%20to%20invite%20your%20colleagues%20%0Aor%20friends.%20To%20join%20t
 he%20chat%2C%20please%20join%20Discord%20and%20RSVP%20on%20the%20%0A%23eve
 nts%20channel%2C%20and%20join%20us%20in%20the%20%E2%80%9CCenter%20Stage%E2
 %80%9D%20channel.%20We%20hope%20to%20%0Asee%20you%20there!%20Please%20note
 %20that%20this%20event%20will%20take%20place%20in%20Discord%20%0Aand%20the
 re%20is%20helpful%20information%20about%20getting%20started%20here%3A%20%3
 Ca%20class%3D%22moz-txt-link-freetext%22%20href%3D%22https%3A%2F%2Fgo.file
 wave.com%2Fdiscord%22%3Ehttps%3A%2F%2Fgo.filewave.com%2Fdiscord%3C%2Fa%3E%
 C2%A0":This is an ongoing series where you can ask any questions you have 
 in an\n open forum. Our team will be on hand to provide guidance and suppo
 rt. \nThis session is open to anyone\, so feel free to invite your colleag
 ues \nor friends. To join the chat\, please join Discord and RSVP on the \
 n#events channel\, and join us in the “Center Stage” channel. We hope 
 to \nsee you there! Please note that this event will take place in Discord
  \nand there is helpful information about getting started here: https://go
 .filewave.com/discord 
DTSTAMP:20260112T163824Z
LAST-MODIFIED:20260112T163824Z
RRULE:FREQ=MONTHLY;BYDAY=3TH
SEQUENCE:2
SUMMARY:Training Department Open Office Hours (NA)
TRANSP:OPAQUE
X-MOZ-GENERATION:3
END:VEVENT
END:VCALENDAR
